BEGIN:VCALENDAR
VERSION:2.0
PRODID:-//New Pilgrim Baptist Church - ECPv6.15.20//NONSGML v1.0//EN
CALSCALE:GREGORIAN
METHOD:PUBLISH
X-WR-CALNAME:New Pilgrim Baptist Church
X-ORIGINAL-URL:https://newpilgrim.org
X-WR-CALDESC:Events for New Pilgrim Baptist Church
REFRESH-INTERVAL;VALUE=DURATION:PT1H
X-Robots-Tag:noindex
X-PUBLISHED-TTL:PT1H
BEGIN:VTIMEZONE
TZID:UTC
BEGIN:STANDARD
TZOFFSETFROM:+0000
TZOFFSETTO:+0000
TZNAME:UTC
DTSTART:20240101T000000
END:STANDARD
END:VTIMEZONE
BEGIN:VEVENT
DTSTART;TZID=UTC:20250723T183000
DTEND;TZID=UTC:20250723T200000
DTSTAMP:20260423T080116
CREATED:20250707T165435Z
LAST-MODIFIED:20250707T165656Z
UID:6915-1753295400-1753300800@newpilgrim.org
SUMMARY:Youth Kickoff Night
DESCRIPTION:
URL:https://newpilgrim.org/event/youth-kickoff-night/
CATEGORIES:Community,Worship and Arts,Youth and Young Adults
ATTACH;FMTTYPE=image/jpeg:https://newpilgrim.org/wp-content/uploads/2025/07/Youth-Explosion-1.jpg
END:VEVENT
END:VCALENDAR