BEGIN:VCALENDAR
VERSION:2.0
PRODID:-//New Pilgrim Baptist Church - ECPv6.15.20//NONSGML v1.0//EN
CALSCALE:GREGORIAN
METHOD:PUBLISH
X-WR-CALNAME:New Pilgrim Baptist Church
X-ORIGINAL-URL:https://newpilgrim.org
X-WR-CALDESC:Events for New Pilgrim Baptist Church
REFRESH-INTERVAL;VALUE=DURATION:PT1H
X-Robots-Tag:noindex
X-PUBLISHED-TTL:PT1H
BEGIN:VTIMEZONE
TZID:UTC
BEGIN:STANDARD
TZOFFSETFROM:+0000
TZOFFSETTO:+0000
TZNAME:UTC
DTSTART:20240101T000000
END:STANDARD
END:VTIMEZONE
BEGIN:VEVENT
DTSTART;TZID=UTC:20250703T180000
DTEND;TZID=UTC:20250703T190000
DTSTAMP:20260423T080421
CREATED:20250630T202454Z
LAST-MODIFIED:20250630T202454Z
UID:6870-1751565600-1751569200@newpilgrim.org
SUMMARY:Mass Choir Rehearsal
DESCRIPTION:
URL:https://newpilgrim.org/event/mass-choir-rehearsal/
CATEGORIES:Worship and Arts
END:VEVENT
END:VCALENDAR