BEGIN:VCALENDAR
VERSION:2.0
PRODID:-//New Pilgrim Baptist Church - ECPv6.15.20//NONSGML v1.0//EN
CALSCALE:GREGORIAN
METHOD:PUBLISH
X-ORIGINAL-URL:https://newpilgrim.org
X-WR-CALDESC:Events for New Pilgrim Baptist Church
REFRESH-INTERVAL;VALUE=DURATION:PT1H
X-Robots-Tag:noindex
X-PUBLISHED-TTL:PT1H
BEGIN:VTIMEZONE
TZID:UTC
BEGIN:STANDARD
TZOFFSETFROM:+0000
TZOFFSETTO:+0000
TZNAME:UTC
DTSTART:20240101T000000
END:STANDARD
END:VTIMEZONE
BEGIN:VEVENT
DTSTART;TZID=UTC:20250703T180000
DTEND;TZID=UTC:20250703T190000
DTSTAMP:20260423T063315
CREATED:20250630T202454Z
LAST-MODIFIED:20250630T202454Z
UID:6870-1751565600-1751569200@newpilgrim.org
SUMMARY:Mass Choir Rehearsal
DESCRIPTION:
URL:https://newpilgrim.org/event/mass-choir-rehearsal/
CATEGORIES:Worship and Arts
END:VEVENT
BEGIN:VEVENT
DTSTART;TZID=UTC:20250723T183000
DTEND;TZID=UTC:20250723T200000
DTSTAMP:20260423T063315
CREATED:20250707T165435Z
LAST-MODIFIED:20250707T165656Z
UID:6915-1753295400-1753300800@newpilgrim.org
SUMMARY:Youth Kickoff Night
DESCRIPTION:
URL:https://newpilgrim.org/event/youth-kickoff-night/
CATEGORIES:Community,Worship and Arts,Youth and Young Adults
ATTACH;FMTTYPE=image/jpeg:https://newpilgrim.org/wp-content/uploads/2025/07/Youth-Explosion-1.jpg
END:VEVENT
BEGIN:VEVENT
DTSTART;TZID=UTC:20250724T180000
DTEND;TZID=UTC:20250724T190000
DTSTAMP:20260423T063315
CREATED:20250630T202708Z
LAST-MODIFIED:20250630T202708Z
UID:6872-1753380000-1753383600@newpilgrim.org
SUMMARY:Mass Choir Rehearsal
DESCRIPTION:
URL:https://newpilgrim.org/event/mass-choir-rehearsal-2/
CATEGORIES:Worship and Arts
END:VEVENT
BEGIN:VEVENT
DTSTART;TZID=UTC:20250726T140000
DTEND;TZID=UTC:20250726T170000
DTSTAMP:20260423T063315
CREATED:20250707T165348Z
LAST-MODIFIED:20250707T165348Z
UID:6912-1753538400-1753549200@newpilgrim.org
SUMMARY:Youth Xplosion Showcase
DESCRIPTION:
URL:https://newpilgrim.org/event/youth-xplosion-showcase/
CATEGORIES:Community,Worship and Arts,Youth and Young Adults
ATTACH;FMTTYPE=image/jpeg:https://newpilgrim.org/wp-content/uploads/2025/07/Youth-Explosion-.jpg
END:VEVENT
BEGIN:VEVENT
DTSTART;TZID=UTC:20250727T110000
DTEND;TZID=UTC:20250727T130000
DTSTAMP:20260423T063315
CREATED:20250707T165801Z
LAST-MODIFIED:20250707T165801Z
UID:6919-1753614000-1753621200@newpilgrim.org
SUMMARY:Youth Day Service
DESCRIPTION:
URL:https://newpilgrim.org/event/youth-day-service/
CATEGORIES:Community,Worship and Arts,Youth and Young Adults
ATTACH;FMTTYPE=image/jpeg:https://newpilgrim.org/wp-content/uploads/2025/07/Youth-Explosion-.jpg
END:VEVENT
BEGIN:VEVENT
DTSTART;TZID=UTC:20250731T180000
DTEND;TZID=UTC:20250731T190000
DTSTAMP:20260423T063315
CREATED:20250630T202731Z
LAST-MODIFIED:20250630T202731Z
UID:6874-1753984800-1753988400@newpilgrim.org
SUMMARY:Mass Choir Rehearsal
DESCRIPTION:
URL:https://newpilgrim.org/event/mass-choir-rehearsal-3/
CATEGORIES:Worship and Arts
END:VEVENT
END:VCALENDAR