BEGIN:VCALENDAR
VERSION:2.0
PRODID:-//New Pilgrim Baptist Church - ECPv6.15.20//NONSGML v1.0//EN
CALSCALE:GREGORIAN
METHOD:PUBLISH
X-ORIGINAL-URL:https://newpilgrim.org
X-WR-CALDESC:Events for New Pilgrim Baptist Church
REFRESH-INTERVAL;VALUE=DURATION:PT1H
X-Robots-Tag:noindex
X-PUBLISHED-TTL:PT1H
BEGIN:VTIMEZONE
TZID:UTC
BEGIN:STANDARD
TZOFFSETFROM:+0000
TZOFFSETTO:+0000
TZNAME:UTC
DTSTART:20240101T000000
END:STANDARD
END:VTIMEZONE
BEGIN:VEVENT
DTSTART;TZID=UTC:20250115T190000
DTEND;TZID=UTC:20250115T200000
DTSTAMP:20260421T084009
CREATED:20240914T223149Z
LAST-MODIFIED:20250108T011415Z
UID:4145-1736967600-1736971200@newpilgrim.org
SUMMARY:No Bible Study
DESCRIPTION:Bible Study notes at https://newpilgrim.org/biblestudy
URL:https://newpilgrim.org/event/bible-study-10/
CATEGORIES:Hoilday,Wednesday
END:VEVENT
BEGIN:VEVENT
DTSTART;TZID=UTC:20250129T190000
DTEND;TZID=UTC:20250129T200000
DTSTAMP:20260421T084009
CREATED:20250127T165147Z
LAST-MODIFIED:20250127T165244Z
UID:6352-1738177200-1738180800@newpilgrim.org
SUMMARY:Bible Study
DESCRIPTION:Bible Study Notes
URL:https://newpilgrim.org/event/bible-study-11/
CATEGORIES:Christian Education,Wednesday
ATTACH;FMTTYPE=image/png:https://newpilgrim.org/wp-content/uploads/2025/01/The-Book-of-Hebrews-Faith-to-Move-Forward-and-Never-Go-Back-2.png
END:VEVENT
END:VCALENDAR