BEGIN:VCALENDAR
VERSION:2.0
PRODID:-//New Pilgrim Baptist Church - ECPv6.15.20//NONSGML v1.0//EN
CALSCALE:GREGORIAN
METHOD:PUBLISH
X-ORIGINAL-URL:https://newpilgrim.org
X-WR-CALDESC:Events for New Pilgrim Baptist Church
REFRESH-INTERVAL;VALUE=DURATION:PT1H
X-Robots-Tag:noindex
X-PUBLISHED-TTL:PT1H
BEGIN:VTIMEZONE
TZID:UTC
BEGIN:STANDARD
TZOFFSETFROM:+0000
TZOFFSETTO:+0000
TZNAME:UTC
DTSTART:20230101T000000
END:STANDARD
END:VTIMEZONE
BEGIN:VEVENT
DTSTART;TZID=UTC:20241204T183000
DTEND;TZID=UTC:20241204T200000
DTSTAMP:20260421T100630
CREATED:20240914T223457Z
LAST-MODIFIED:20240914T223518Z
UID:4150-1733337000-1733342400@newpilgrim.org
SUMMARY:Pre-Church Anniversary Revival
DESCRIPTION:
URL:https://newpilgrim.org/event/pre-church-anniversary-revival/
CATEGORIES:Revival,Wednesday
END:VEVENT
BEGIN:VEVENT
DTSTART;TZID=UTC:20241204T183000
DTEND;TZID=UTC:20241204T200000
DTSTAMP:20260421T100630
CREATED:20240914T224920Z
LAST-MODIFIED:20241009T032033Z
UID:4177-1733337000-1733342400@newpilgrim.org
SUMMARY:Youth Bible Study
DESCRIPTION:Dinner is served.
URL:https://newpilgrim.org/event/youth-bible-study-13/
LOCATION:Pavilion/Kitchen
CATEGORIES:Christian Education,Wednesday,Youth and Young Adults
ATTACH;FMTTYPE=image/jpeg:https://newpilgrim.org/wp-content/uploads/2024/09/NPBC-Youth-Bible-Study.jpg
END:VEVENT
BEGIN:VEVENT
DTSTART;TZID=UTC:20241211T183000
DTEND;TZID=UTC:20241211T200000
DTSTAMP:20260421T100630
CREATED:20240914T225006Z
LAST-MODIFIED:20241009T032141Z
UID:4178-1733941800-1733947200@newpilgrim.org
SUMMARY:Youth Bible Study
DESCRIPTION:Dinner is served.
URL:https://newpilgrim.org/event/youth-bible-study-14/
LOCATION:Pavilion/Kitchen
CATEGORIES:Christian Education,Wednesday,Youth and Young Adults
ATTACH;FMTTYPE=image/jpeg:https://newpilgrim.org/wp-content/uploads/2024/09/NPBC-Youth-Bible-Study.jpg
END:VEVENT
BEGIN:VEVENT
DTSTART;TZID=UTC:20241211T190000
DTEND;TZID=UTC:20241211T200000
DTSTAMP:20260421T100630
CREATED:20240914T223128Z
LAST-MODIFIED:20241206T015128Z
UID:4144-1733943600-1733947200@newpilgrim.org
SUMMARY:Bible Study
DESCRIPTION:Bible Study notes at https://newpilgrim.org/biblestudy
URL:https://newpilgrim.org/event/bible-study-9/
CATEGORIES:Christian Education,Wednesday
ATTACH;FMTTYPE=image/jpeg:https://newpilgrim.org/wp-content/uploads/2024/09/The-Coming-of-the-Kingdom-Bible-Study-Series.jpg
END:VEVENT
END:VCALENDAR