BEGIN:VCALENDAR
VERSION:2.0
PRODID:-//New Pilgrim Baptist Church - ECPv6.15.20//NONSGML v1.0//EN
CALSCALE:GREGORIAN
METHOD:PUBLISH
X-ORIGINAL-URL:https://newpilgrim.org
X-WR-CALDESC:Events for New Pilgrim Baptist Church
REFRESH-INTERVAL;VALUE=DURATION:PT1H
X-Robots-Tag:noindex
X-PUBLISHED-TTL:PT1H
BEGIN:VTIMEZONE
TZID:UTC
BEGIN:STANDARD
TZOFFSETFROM:+0000
TZOFFSETTO:+0000
TZNAME:UTC
DTSTART:20240101T000000
END:STANDARD
END:VTIMEZONE
BEGIN:VEVENT
DTSTART;VALUE=DATE:20250601
DTEND;VALUE=DATE:20250602
DTSTAMP:20260421T012111
CREATED:20250530T154453Z
LAST-MODIFIED:20250530T154453Z
UID:6739-1748736000-1748822399@newpilgrim.org
SUMMARY:Annual Sunday School Day
DESCRIPTION:
URL:https://newpilgrim.org/event/annual-sunday-school-day/
LOCATION:AL
CATEGORIES:Sunday
ATTACH;FMTTYPE=image/jpeg:https://newpilgrim.org/wp-content/uploads/2025/05/White-Simple-Teachers-Day-Flyer.jpg
END:VEVENT
BEGIN:VEVENT
DTSTART;TZID=UTC:20250720T110000
DTEND;TZID=UTC:20250720T123000
DTSTAMP:20260421T012111
CREATED:20250708T180503Z
LAST-MODIFIED:20250708T180503Z
UID:6921-1753009200-1753014600@newpilgrim.org
SUMMARY:Youth Ministry Service Day
DESCRIPTION:This Service Project will take place during Children’s Church. Please wear cool casual clothes as we will work on making our Church grounds beautiful.
URL:https://newpilgrim.org/event/youth-ministry-service-day/
LOCATION:AL
CATEGORIES:Community,Sunday,Youth and Young Adults
ATTACH;FMTTYPE=application/pdf:https://newpilgrim.org/wp-content/uploads/2025/07/NPBC-Youth-Service-Day.pdf
END:VEVENT
BEGIN:VEVENT
DTSTART;TZID=UTC:20260325T000000
DTEND;TZID=UTC:20260325T000000
DTSTAMP:20260421T012111
CREATED:20260325T174545Z
LAST-MODIFIED:20260325T175036Z
UID:7388-1774396800-1774396800@newpilgrim.org
SUMMARY:Palm Sunday
DESCRIPTION:Join us this Sunday\, March 29 at 11 AM \n\n\nCelebrate Palm Sunday with a heart of praise and worship as we remember His triumphant entry!
URL:https://newpilgrim.org/event/palm-sunday/
LOCATION:AL
CATEGORIES:Sunday
END:VEVENT
END:VCALENDAR