BEGIN:VCALENDAR
VERSION:2.0
PRODID:-//New Pilgrim Baptist Church - ECPv6.15.20//NONSGML v1.0//EN
CALSCALE:GREGORIAN
METHOD:PUBLISH
X-ORIGINAL-URL:https://newpilgrim.org
X-WR-CALDESC:Events for New Pilgrim Baptist Church
REFRESH-INTERVAL;VALUE=DURATION:PT1H
X-Robots-Tag:noindex
X-PUBLISHED-TTL:PT1H
BEGIN:VTIMEZONE
TZID:UTC
BEGIN:STANDARD
TZOFFSETFROM:+0000
TZOFFSETTO:+0000
TZNAME:UTC
DTSTART:20240101T000000
END:STANDARD
END:VTIMEZONE
BEGIN:VEVENT
DTSTART;TZID=UTC:20250420T110000
DTEND;TZID=UTC:20250420T130000
DTSTAMP:20260420T024958
CREATED:20250309T172517Z
LAST-MODIFIED:20250309T172517Z
UID:6570-1745146800-1745154000@newpilgrim.org
SUMMARY:Resurrection Sunday
DESCRIPTION:The Youth will be putting on a Resurrection Pay at 10:00 AM and Resurrection Service will be at 11:00 AM.
URL:https://newpilgrim.org/event/resurrection-sunday/
CATEGORIES:Hoilday,Sunday
ATTACH;FMTTYPE=image/png:https://newpilgrim.org/wp-content/uploads/2025/03/NPBC-Resurrection-Sunday-2025-2.png
END:VEVENT
END:VCALENDAR