BEGIN:VCALENDAR
VERSION:2.0
PRODID:-//New Pilgrim Baptist Church - ECPv6.15.20//NONSGML v1.0//EN
CALSCALE:GREGORIAN
METHOD:PUBLISH
X-WR-CALNAME:New Pilgrim Baptist Church
X-ORIGINAL-URL:https://newpilgrim.org
X-WR-CALDESC:Events for New Pilgrim Baptist Church
REFRESH-INTERVAL;VALUE=DURATION:PT1H
X-Robots-Tag:noindex
X-PUBLISHED-TTL:PT1H
BEGIN:VTIMEZONE
TZID:UTC
BEGIN:STANDARD
TZOFFSETFROM:+0000
TZOFFSETTO:+0000
TZNAME:UTC
DTSTART:20240101T000000
END:STANDARD
END:VTIMEZONE
BEGIN:VEVENT
DTSTART;VALUE=DATE:20250309
DTEND;VALUE=DATE:20250310
DTSTAMP:20260420T031937
CREATED:20250210T170341Z
LAST-MODIFIED:20250224T191612Z
UID:6428-1741478400-1741564799@newpilgrim.org
SUMMARY:Men's Day
DESCRIPTION:Sunday\, March 9th\, come on out and help us acknowledge our fathers\, father figures\, uncles\, dads\, & grandfathers.
URL:https://newpilgrim.org/event/mens-day/
CATEGORIES:Community,Family,Sunday
ATTACH;FMTTYPE=image/jpeg:https://newpilgrim.org/wp-content/uploads/2025/02/Untitled-11-x-8.5-in.jpg
END:VEVENT
END:VCALENDAR