BEGIN:VCALENDAR
VERSION:2.0
PRODID:-//New Pilgrim Baptist Church - ECPv6.15.20//NONSGML v1.0//EN
CALSCALE:GREGORIAN
METHOD:PUBLISH
X-WR-CALNAME:New Pilgrim Baptist Church
X-ORIGINAL-URL:https://newpilgrim.org
X-WR-CALDESC:Events for New Pilgrim Baptist Church
REFRESH-INTERVAL;VALUE=DURATION:PT1H
X-Robots-Tag:noindex
X-PUBLISHED-TTL:PT1H
BEGIN:VTIMEZONE
TZID:UTC
BEGIN:STANDARD
TZOFFSETFROM:+0000
TZOFFSETTO:+0000
TZNAME:UTC
DTSTART:20230101T000000
END:STANDARD
END:VTIMEZONE
BEGIN:VEVENT
DTSTART;VALUE=DATE:20241208
DTEND;VALUE=DATE:20241209
DTSTAMP:20260420T060937
CREATED:20240914T223603Z
LAST-MODIFIED:20241206T014241Z
UID:4152-1733616000-1733702399@newpilgrim.org
SUMMARY:Church Anniversary - 124 Years Strong
DESCRIPTION:
URL:https://newpilgrim.org/event/church-anniversary-124-years-strong/
CATEGORIES:Hoilday,Sunday
ATTACH;FMTTYPE=image/jpeg:https://newpilgrim.org/wp-content/uploads/2024/09/NPBC-124th-Church-Anniversary.jpg
END:VEVENT
BEGIN:VEVENT
DTSTART;TZID=UTC:20241208T110000
DTEND;TZID=UTC:20241208T130000
DTSTAMP:20260420T060937
CREATED:20240912T175304Z
LAST-MODIFIED:20240914T214216Z
UID:4066-1733655600-1733662800@newpilgrim.org
SUMMARY:Children's Church
DESCRIPTION:
URL:https://newpilgrim.org/event/childrens-church-8/
LOCATION:Church\, 708 Goldwire Pl SW\, Birmingham\, AL\, 35211\, United States
CATEGORIES:Sunday,Youth and Young Adults
ATTACH;FMTTYPE=image/jpeg:https://newpilgrim.org/wp-content/uploads/2024/09/457365781_499323149625029_6446024581102869112_n.jpg
END:VEVENT
BEGIN:VEVENT
DTSTART;TZID=UTC:20241215T110000
DTEND;TZID=UTC:20241215T130000
DTSTAMP:20260420T060937
CREATED:20240912T175357Z
LAST-MODIFIED:20240914T214154Z
UID:4068-1734260400-1734267600@newpilgrim.org
SUMMARY:Children's Church
DESCRIPTION:
URL:https://newpilgrim.org/event/childrens-church-9/
LOCATION:Church\, 708 Goldwire Pl SW\, Birmingham\, AL\, 35211\, United States
CATEGORIES:Sunday,Youth and Young Adults
ATTACH;FMTTYPE=image/jpeg:https://newpilgrim.org/wp-content/uploads/2024/09/457365781_499323149625029_6446024581102869112_n.jpg
END:VEVENT
END:VCALENDAR