BEGIN:VCALENDAR
VERSION:2.0
PRODID:-//New Pilgrim Baptist Church - ECPv6.15.20//NONSGML v1.0//EN
CALSCALE:GREGORIAN
METHOD:PUBLISH
X-ORIGINAL-URL:https://newpilgrim.org
X-WR-CALDESC:Events for New Pilgrim Baptist Church
REFRESH-INTERVAL;VALUE=DURATION:PT1H
X-Robots-Tag:noindex
X-PUBLISHED-TTL:PT1H
BEGIN:VTIMEZONE
TZID:UTC
BEGIN:STANDARD
TZOFFSETFROM:+0000
TZOFFSETTO:+0000
TZNAME:UTC
DTSTART:20230101T000000
END:STANDARD
END:VTIMEZONE
BEGIN:VEVENT
DTSTART;TZID=UTC:20241110T110000
DTEND;TZID=UTC:20241110T130000
DTSTAMP:20260420T074726
CREATED:20240912T175207Z
LAST-MODIFIED:20240914T214252Z
UID:4062-1731236400-1731243600@newpilgrim.org
SUMMARY:Children's Church
DESCRIPTION:
URL:https://newpilgrim.org/event/childrens-church-6/
LOCATION:Church\, 708 Goldwire Pl SW\, Birmingham\, AL\, 35211\, United States
CATEGORIES:Sunday,Youth and Young Adults
ATTACH;FMTTYPE=image/jpeg:https://newpilgrim.org/wp-content/uploads/2024/09/457365781_499323149625029_6446024581102869112_n.jpg
END:VEVENT
BEGIN:VEVENT
DTSTART;TZID=UTC:20241117T110000
DTEND;TZID=UTC:20241117T130000
DTSTAMP:20260420T074726
CREATED:20240912T175232Z
LAST-MODIFIED:20240914T214234Z
UID:4064-1731841200-1731848400@newpilgrim.org
SUMMARY:Children's Church
DESCRIPTION:
URL:https://newpilgrim.org/event/childrens-church-7/
LOCATION:Church\, 708 Goldwire Pl SW\, Birmingham\, AL\, 35211\, United States
CATEGORIES:Sunday,Youth and Young Adults
ATTACH;FMTTYPE=image/jpeg:https://newpilgrim.org/wp-content/uploads/2024/09/457365781_499323149625029_6446024581102869112_n.jpg
END:VEVENT
END:VCALENDAR